BEGIN:VCALENDAR
VERSION:2.0
PRODID:-//Bookstore Gabrielli Editori - ECPv6.15.20//NONSGML v1.0//EN
CALSCALE:GREGORIAN
METHOD:PUBLISH
X-WR-CALNAME:Bookstore Gabrielli Editori
X-ORIGINAL-URL:https://bookstore.gabriellieditori.it
X-WR-CALDESC:Eventi per Bookstore Gabrielli Editori
REFRESH-INTERVAL;VALUE=DURATION:PT1H
X-Robots-Tag:noindex
X-PUBLISHED-TTL:PT1H
BEGIN:VTIMEZONE
TZID:Europe/Paris
BEGIN:DAYLIGHT
TZOFFSETFROM:+0100
TZOFFSETTO:+0200
TZNAME:CEST
DTSTART:20240331T010000
END:DAYLIGHT
BEGIN:STANDARD
TZOFFSETFROM:+0200
TZOFFSETTO:+0100
TZNAME:CET
DTSTART:20241027T010000
END:STANDARD
BEGIN:DAYLIGHT
TZOFFSETFROM:+0100
TZOFFSETTO:+0200
TZNAME:CEST
DTSTART:20250330T010000
END:DAYLIGHT
BEGIN:STANDARD
TZOFFSETFROM:+0200
TZOFFSETTO:+0100
TZNAME:CET
DTSTART:20251026T010000
END:STANDARD
BEGIN:DAYLIGHT
TZOFFSETFROM:+0100
TZOFFSETTO:+0200
TZNAME:CEST
DTSTART:20260329T010000
END:DAYLIGHT
BEGIN:STANDARD
TZOFFSETFROM:+0200
TZOFFSETTO:+0100
TZNAME:CET
DTSTART:20261025T010000
END:STANDARD
BEGIN:DAYLIGHT
TZOFFSETFROM:+0100
TZOFFSETTO:+0200
TZNAME:CEST
DTSTART:20270328T010000
END:DAYLIGHT
BEGIN:STANDARD
TZOFFSETFROM:+0200
TZOFFSETTO:+0100
TZNAME:CET
DTSTART:20271031T010000
END:STANDARD
END:VTIMEZONE
BEGIN:VEVENT
DTSTART;TZID=Europe/Paris:20260127T203000
DTEND;TZID=Europe/Paris:20260127T213000
DTSTAMP:20260421T033708
CREATED:20260119T154345Z
LAST-MODIFIED:20260119T154345Z
UID:10164-1769545800-1769549400@bookstore.gabriellieditori.it
SUMMARY:Presentazione di "Breviario laico. Meditazioni sull'umano" con Massimo Diana e Romano Màdera
DESCRIPTION:Presentazione del nuovo libro di \nMassimo Diana\nBREVIARIO LAICO. MEDITAZIONI SULL’UMANO\nPrefazione di Romano Màdera\, Gabrielli editori \nMartedì 27 gennaio ore 20.30 evento online su You Tube e Facebook Gabrielli editori \nIntervengono:\nROMANO MÀDERA\, filosofo e psicoanalista\nMASSIMO DIANA\, autore\, analista biografico\nentrambi fanno parte della Scuola Philo di Milano e di SABOF (Società di Analisi Biografica a Orientamento Filosofico) \nNel dialogo tra i due ospiti scopriremo come il patrimonio delle scienze umane possa promuovere una spiritualità laica che comprende ogni via di senso\, di orientamento complessivo della vita\, anche di chi religioso non è. \n“Spiritualità laica” è anche un progetto di dialogo e di impegno solidale\, aperto senza prevenzioni a ogni “spirito” che voglia cercare un senso consapevolmente\, operando per approfondire e dispiegare le energie legate alle condizioni e ai modi fondamentali della vita umana: fiducia\, solidarietà\, cooperazione.\nRomano Màdera\, dalla Prefazione
URL:https://bookstore.gabriellieditori.it/event/presentazione-di-breviario-laico-meditazioni-sullumano-con-massimo-diana-e-romano-madera/
LOCATION:online
CATEGORIES:Presentazione Libro
END:VEVENT
BEGIN:VEVENT
DTSTART;TZID=Europe/Paris:20251218T190000
DTEND;TZID=Europe/Paris:20251218T200000
DTSTAMP:20260421T033708
CREATED:20251127T101329Z
LAST-MODIFIED:20251127T101329Z
UID:9987-1766084400-1766088000@bookstore.gabriellieditori.it
SUMMARY:Presentazione di "Teologia del probabile" di Adriana Zarri
DESCRIPTION:Presentazione del libro di \nADRIANA ZARRI \nTEOLOGIA DEL PROBABILE\nLa realizzazione cristiana dal limite alla relatività\na cura di Francesco Occhetto\, postfazione di Giannino Piana \nGiovedì 18 dicembre ore 19.00 evento online \nEvento organizzato e promosso da DONNE PER LA CHIESA www.donneperlachiesa.it \nIntervengono: \nFrancesco Occhetto\, curatore del libro\nAlice Bianchi\, teologa\nMaria Assunta Ardissone\, testimone\nModera: Patrizia Morgante presidente Donne per la Chiesa\n\nPer partecipare è richiesta l’iscrizione a questo link: https://bit.ly/49EmrVR\n\n\n\n“Teologia del probabile” è uno dei titoli più rappresentativi del pensiero della prima teologa italiana\, “𝗠𝗶𝘀𝘁𝗶𝗰𝗮 𝗲𝗱 𝗲𝗿𝗲𝗺𝗶𝘁𝗮 𝗰𝗼𝗻𝘁𝗲𝗺𝗽𝗹-𝗮𝘁𝘁𝗶𝘃𝗮” come la definisce Francesco Occhetto nell’Introduzione. \n\nUn’opera fortemente voluta\, in particolare nei suoi ultimi tempi dal teologo Giannino Piana che ha riservato al libro un’ampia analisi sulla dinamica prospettiva teologica della Zarri.\n\n\n𝘗𝘦𝘳 𝘈𝘥𝘳𝘪𝘢𝘯𝘢 𝘡𝘢𝘳𝘳𝘪 𝘭𝘢 𝘵𝘦𝘰𝘭𝘰𝘨𝘪𝘢 𝘦̀ 𝘤𝘰𝘴𝘵𝘢𝘯𝘵𝘦𝘮𝘦𝘯𝘵𝘦 𝘪𝘯 𝘥𝘪𝘷𝘦𝘯𝘪𝘳𝘦\, 𝘯𝘦𝘭𝘭𝘢 𝘲𝘶𝘢𝘭𝘦 𝘰𝘨𝘯𝘪 𝘢𝘧𝘧𝘦𝘳𝘮𝘢𝘻𝘪𝘰𝘯𝘦 𝘯𝘰𝘯 𝘦̀ 𝘤𝘩𝘦 𝘶𝘯 𝘵𝘦𝘯𝘵𝘢𝘵𝘪𝘷𝘰 𝘥𝘪 𝘤𝘰𝘨𝘭𝘪𝘦𝘳𝘦 𝘭𝘢 𝘷𝘦𝘳𝘪𝘵𝘢̀ 𝘦 𝘭𝘢 𝘨𝘳𝘢𝘯𝘥𝘦𝘻𝘻𝘢 𝘥𝘦𝘭 𝘔𝘪𝘴𝘵𝘦𝘳𝘰 𝘱𝘦𝘳 𝘷𝘪𝘢 𝘱𝘰𝘦𝘵𝘪𝘤𝘢 𝘦 𝘪𝘯𝘵𝘶𝘪𝘵𝘪𝘷𝘢\, 𝘢𝘭 𝘥𝘪 𝘭𝘢̀ 𝘥𝘪 𝘰𝘨𝘯𝘪 𝘳𝘪𝘷𝘦𝘯𝘥𝘪𝘤𝘢𝘻𝘪𝘰𝘯𝘦 𝘥𝘰𝘨𝘮𝘢𝘵𝘪𝘤𝘢 𝘦 𝘪𝘥𝘦𝘰𝘭𝘰𝘨𝘪𝘤𝘢.
URL:https://bookstore.gabriellieditori.it/event/presentazione-di-teologia-del-probabile-di-adriana-zarri/
LOCATION:online
CATEGORIES:Presentazione Libro
END:VEVENT
BEGIN:VEVENT
DTSTART;TZID=Europe/Paris:20251205T210000
DTEND;TZID=Europe/Paris:20251205T223000
DTSTAMP:20260421T033708
CREATED:20251127T102946Z
LAST-MODIFIED:20251127T102946Z
UID:10015-1764968400-1764973800@bookstore.gabriellieditori.it
SUMMARY:Presentazione di "Teologia del probabile" di Adriana Zarri
DESCRIPTION:Presentazione del libro di \nADRIANA ZARRI \nTEOLOGIA DEL PROBABILE\nLa realizzazione cristiana dal limite alla relatività\na cura di Francesco Occhetto\, postfazione di Giannino Piana \nVenerdì 5 dicembre 2025 ore 21.00\nSala dell’Addolorata – Via dell’Addolorata\, 3 – Casale Monferrato \nOrganizzatori: Rete delle Alternative ed E-Forum di Casale Monf. \nIntervengono:\nil curatore\, FRANCESCO OCCHETTO\nin dialogo con\nALBERTO DEAMBROGIO e CLAUDIO DEBETTO \nL’audace esplorazione di Adriana Zarri – dicono gli organizzatori dell’incontro – ha rappresentato un manifesto della teologia al femminile del Novecento italiano. Teologia del probabile non è un’opera accademica e arida\, ma un’esperienza di pensiero che sgorga dalla vita vissuta\, dall’esperienza monastica e dall’impegno nel mondo. \nIL LIBRO: https://bookstore.gabriellieditori.it/product/adriana-zarri-teologia-del-probabile/
URL:https://bookstore.gabriellieditori.it/event/presentazione-di-teologia-del-probabile-di-adriana-zarri-2/
LOCATION:Sala dell’Addolorata\, Via dell'Addolorata\, 3\, Casale Monferrato\, 15033\, Italy
CATEGORIES:Presentazione Libro
END:VEVENT
BEGIN:VEVENT
DTSTART;TZID=Europe/Paris:20251201T203000
DTEND;TZID=Europe/Paris:20251201T220000
DTSTAMP:20260421T033708
CREATED:20251127T104825Z
LAST-MODIFIED:20251127T104825Z
UID:10021-1764621000-1764626400@bookstore.gabriellieditori.it
SUMMARY:Presentazione di "Alla sinistra del Padre" di Marco Campedelli
DESCRIPTION:Presentazione del nuovo libro di \nMARCO CAMPEDELLI \nAlla sinistra del Padre\nLETTERE PER RESISTERE\nPrefazione di Selene Zorzi \nLunedì 1 dicembre 2025 ore 20.30 \nMissionari Comboniani – Sala Africa – Vicolo Pozzo\, 1 – Verona \n\nSaranno presenti:Cecilia Gabrielli\, introduceJessica Cugini\, giornalista\, moderatriceSelene Zorzi\, teologaMarco Campedelli\, autore \n\n“Queste mie lettere nascono dalla consapevolezza di stare da una parte\, di guardare il mondo da una parte\, quella che crede nei diritti e in una società che non esclude\, non imprigiona le idee\, non cuce le bocche\, non erode la democrazia\, non strumentalizza un messia che sta appunto alla “destra del Padre”.” Marco Campedelli\, dall’Introduzione\n\n“C’è un grande afflato di giustizia in questi scritti\, una giustizia che affonda le radici nella disobbedienza civile di Gesù stesso” (Selene Zorzi\, dalla Prefazione) \n\nIL LIBRO  https://bit.ly/3LXfaGZ
URL:https://bookstore.gabriellieditori.it/event/presentazione-di-alla-sinistra-del-padre-di-marco-campedelli/
LOCATION:Missionari Comboniani\, Vicolo Pozzo 1\, Verona\, 37129\, Italy
CATEGORIES:Presentazione Libro
END:VEVENT
BEGIN:VEVENT
DTSTART;TZID=Europe/Paris:20251124T203000
DTEND;TZID=Europe/Paris:20251124T213000
DTSTAMP:20260421T033708
CREATED:20251103T150720Z
LAST-MODIFIED:20251103T150720Z
UID:9875-1764016200-1764019800@bookstore.gabriellieditori.it
SUMMARY:Presentazione di "La bussola del transteismo" con Annamaria Corallo ed Elisa Belotti
DESCRIPTION:Presentazione del libro\nLA BUSSOLA DEL TRANSTEISMO. Per un cristianesimo liberante\ndi Annamaria Corallo\nlunedì 24 novembre ore 20.30 online You Tube e Facebook Gabrielli editori \nIntervengono: \nANNAMARIA CORALLO\, teologa biblista\, scrittrice\nELISA BELOTTI\,  insegnante e giornalista pubblicista \nLa vecchia “bussola” del teismo\, basata su una religiosità che concepisce Dio come antropomorfo\, che agisce direttamente sulle vicende umane\, non funziona più. La proposta di ripensamento teologico transteista\, che si colloca nell’ampio movimento di pensiero denominato con il termine post-teismo\, può fornire una bussola rinnovata\, che il nuovo libro di Annamaria Corallo spiega in modo semplice e allo stesso tempo approfondito. \nIL LIBRO: https://bookstore.gabriellieditori.it/product/annamaria-corallo-la-bussola-del-transteismo/
URL:https://bookstore.gabriellieditori.it/event/presentazione-di-la-bussola-del-transteismo-con-annamaria-corallo-ed-elisa-belotti/
LOCATION:online
END:VEVENT
BEGIN:VEVENT
DTSTART;TZID=Europe/Paris:20251104T203000
DTEND;TZID=Europe/Paris:20251104T213000
DTSTAMP:20260421T033708
CREATED:20251103T112239Z
LAST-MODIFIED:20251103T145138Z
UID:9873-1762288200-1762291800@bookstore.gabriellieditori.it
SUMMARY:Presentazione "Meno cattolici + cristiani" con Roberto Beretta e Paolo Rodari
DESCRIPTION:Presentazione del libro\nMENO CATTOLICI + CRISTIANI. Esperienze di un laico nella Chiesa italiana\ndi Roberto Beretta\nmartedì 4 novembre ore 20.30 online You Tube e Facebook Gabrielli editori \nIntervengono: \nROBERTO BERETTA\, giornalista\, per oltre 30 anni alle pagine culturali di “Avvenire”\, scrittore\nPAOLO RODARI\,  già vaticanista a “la Repubblica”\, ora nella redazione Cultura della RSI (Radio Svizzera Italiana) e collaboratore de “il manifesto” Autore di “Il mantello di Rut”\, Feltrinelli. \n«Senza sconti\, senza infingimenti\, il libro di Roberto Beretta parte da un’esperienza concreta di un certo cristianesimo che solo chi l’ha vissuto fino in fondo riconosce come non più credibile.» (dalla 𝗣𝗿𝗲𝗳𝗮𝘇𝗶𝗼𝗻𝗲 𝗱𝗶 𝗣𝗮𝗼𝗹𝗼 𝗥𝗼𝗱𝗮𝗿𝗶)\n𝘋𝘶𝘦𝘮𝘪𝘭𝘢 𝘢𝘯𝘯𝘪 𝘥𝘪 𝘥𝘰𝘨𝘮𝘪\, 𝘵𝘳𝘢𝘥𝘪𝘻𝘪𝘰𝘯𝘪\, 𝘳𝘪𝘵𝘪\, 𝘥𝘰𝘤𝘶𝘮𝘦𝘯𝘵𝘪\, 𝘱𝘳𝘢𝘵𝘪𝘤𝘩𝘦 𝘱𝘢𝘴𝘵𝘰𝘳𝘢𝘭𝘪\, 𝘥𝘦𝘷𝘰𝘻𝘪𝘰𝘯𝘪\, 𝘢𝘣𝘪𝘵𝘶𝘥𝘪𝘯𝘪\, 𝘱𝘳𝘦𝘤𝘦𝘵𝘵𝘪 𝘮𝘰𝘳𝘢𝘭𝘪… 𝘦̀ 𝘢𝘯𝘤𝘰𝘳𝘢 𝘱𝘰𝘴𝘴𝘪𝘣𝘪𝘭𝘦 𝘥𝘢 𝘤𝘢𝘵𝘵𝘰𝘭𝘪𝘤𝘪 𝘦𝘴𝘴𝘦𝘳𝘦 “𝘤𝘳𝘪𝘴𝘵𝘪𝘢𝘯𝘪”?\n\nIL LIBRO: https://bookstore.gabriellieditori.it/product/roberto-beretta-meno-cattolici-piu-cristiani/
URL:https://bookstore.gabriellieditori.it/event/presentazione-meno-cattolici-cristiani-con-roberto-beretta-e-paolo-rodari/
LOCATION:online
CATEGORIES:Presentazione Libro
END:VEVENT
BEGIN:VEVENT
DTSTART;TZID=Europe/Paris:20251021T203000
DTEND;TZID=Europe/Paris:20251021T220000
DTSTAMP:20260421T033708
CREATED:20251003T073323Z
LAST-MODIFIED:20251103T112235Z
UID:9545-1761078600-1761084000@bookstore.gabriellieditori.it
SUMMARY:Presentazione "L'alfabeto della meditazione" con Maciej Bielawski e Paolo Scquizzato
DESCRIPTION:Presentazione del libro\nL’ALFABETO DELLA MEDITAZIONE. Per illuminare e favorire la prassi meditativa\ndi Maciej Bielawski\, Collana “Il giardino del Silenzio”\nmartedì 21 ottobre ore 20.30 online You Tube e Facebook Gabrielli editori \nIntervengono: \nMACIEJ BIELAWSKI\, studioso di spiritualità\, teologo\, scrittore e docente universitario\nPAOLO SCQUIZZATO\, teologo\, scrittore\, docente universitario\, direttore della Collana Il giardino del Silenzio \nUn viaggio nel tempo e nello spazio\, verso gli eremi degli esicasti\, verso l’India e la steppa o la pustyn’ russa o le montagne cinesi. Un percorso lungo le parole con cui la meditazione è nominata nelle diverse culture e religioni\, famiglie linguistiche e tradizioni spirituali. 
URL:https://bookstore.gabriellieditori.it/event/presentazione-lalfabeto-della-meditazione-con-maciej-bielawski-e-paolo-scquizzato/
LOCATION:online
CATEGORIES:Presentazione Libro
END:VEVENT
BEGIN:VEVENT
DTSTART;TZID=Europe/Paris:20251018T113000
DTEND;TZID=Europe/Paris:20251018T130000
DTSTAMP:20260421T033708
CREATED:20251003T073253Z
LAST-MODIFIED:20251003T073253Z
UID:9553-1760787000-1760792400@bookstore.gabriellieditori.it
SUMMARY:Maciej Bielawski e Paolo Scquizzato a Torino Spiritualità
DESCRIPTION:𝗠𝗮𝗰𝗶𝗲𝗷 𝗕𝗶𝗲𝗹𝗮𝘄𝘀𝗸𝗶\, con il suo nuovo libro “L’alfabeto della meditazione”\, e 𝗣𝗮𝗼𝗹𝗼 𝗦𝗰𝗾𝘂𝗶𝘇𝘇𝗮𝘁𝗼 saranno presenti a Torino Spiritualità con la lezione:\nLESSICO DELLA RAREFAZIONE\n𝘀𝗮𝗯𝗮𝘁𝗼 𝟭𝟴 𝗼𝘁𝘁𝗼𝗯𝗿𝗲 𝟮𝟬𝟮𝟱 𝗵 𝟭𝟭.𝟯𝟬 | 𝗧𝗲𝗮𝘁𝗿𝗼 𝗚𝗼𝗯𝗲𝘁𝘁𝗶 \nIn molte tradizioni spirituali\, al cuore della meditazione si apre uno spazio di mistero che a volte viene chiamato “vuoto”\, un termine con cui l’alfabeto della spiritualità tenta di descrivere la sconfinatezza dell’esperienza interiore. Ma le sfaccettature del mistero sono molte\, e altrettante le metafore per avvicinarvisi: mente pura\, quiete\, silenzio\, invisibile\, infinito… Paolo Scquizzato e Maciej Bielawski ci guidano attraverso questo lessico della rarefazione\, alla ricerca della formula che risuona più profondamente in ciascuno di noi. A impreziosire la conversazione\, la danza classica Odissi di Antonietta Fusco\, dove il movimento rituale è ulteriore forma dell’ineffabile. \nINFO: https://www.torinospiritualita.org/lessico-della…/
URL:https://bookstore.gabriellieditori.it/event/maciej-bielawski-e-paolo-scquizzato-a-torino-spiritualita/
LOCATION:Teatro Gobetti – Torino\, Via Rossini\, 8\, Torino\, 10124\, Italy
CATEGORIES:Presentazione Libro
END:VEVENT
BEGIN:VEVENT
DTSTART;TZID=Europe/Paris:20251009T210000
DTEND;TZID=Europe/Paris:20251009T223000
DTSTAMP:20260421T033708
CREATED:20251003T074833Z
LAST-MODIFIED:20251003T074833Z
UID:9562-1760043600-1760049000@bookstore.gabriellieditori.it
SUMMARY:Presentazione "Il sovversivo di Nazareth" con Gilberto Squizzato
DESCRIPTION:Presentazione del nuovo libro di Gilberto Squizzato \nIL SOVVERSIVO DI NAZARETH\nLa conversione dell’operaio che non voleva essere il Messia\nGiovedì 9 ottobre ore 21 – Sala Consiliare – Besnate (VA) \nInterviene l’autore\, Gilberto Squizzato\, giornalista e regista RAI\, docente di giornalismo televisivo all’Università Statale di Milano\, docente di cinema della realtà al Centro Sperimentale di Cinematografia\, saggista\, culture di studi biblici \nUn’indagine storica rigorosa alla ricerca del Gesù reale\, oltre ogni deformazione religiosa\, contro ogni travisamento moralistico del suo Vangelo.\nIn quale contesto economico\, politico\, sociale e culturale visse e operò l’uomo di Nazareth? Perché il suo Vangelo minava i poteri dominanti in terra di Israele? E perché fu rapidamente tolto di mezzo da Pilato? \nEvento a cura dell’Assessorato alla Cultura del Comune di Besnate
URL:https://bookstore.gabriellieditori.it/event/presentazione-il-sovversivo-di-nazareth-con-gilberto-squizzato/
LOCATION:Comune di Besnate\, Piazza Giuseppe Mazzini\, 16\, Besnate\, 21010\, Italy
CATEGORIES:Presentazione Libro
END:VEVENT
BEGIN:VEVENT
DTSTART;TZID=Europe/Paris:20250923T203000
DTEND;TZID=Europe/Paris:20250923T220000
DTSTAMP:20260421T033708
CREATED:20250909T085132Z
LAST-MODIFIED:20250924T155819Z
UID:9117-1758659400-1758664800@bookstore.gabriellieditori.it
SUMMARY:Presentazione del libro Lingue di Fuoco
DESCRIPTION:La teologa e filosofa 𝗟𝗨𝗖𝗜𝗔 𝗩𝗔𝗡𝗧𝗜𝗡𝗜 e l’antropologa 𝗠𝗔𝗥𝗜𝗔 𝗟𝗜𝗩𝗜𝗔 𝗔𝗟𝗚𝗔presentano il loro nuovo libro\n𝗟𝗜𝗡𝗚𝗨𝗘 𝗗𝗜 𝗙𝗨𝗢𝗖𝗢. 𝗣𝗮𝗿𝗼𝗹𝗲 𝗱𝗮𝗹 𝗰𝗿𝗮𝘁𝗲𝗿𝗲 𝗱𝗲𝗹 𝗺𝗼𝗻𝗱𝗼𝘊𝘰𝘭𝘭𝘢𝘯𝘢 𝘌𝘴𝘩 𝘤𝘰𝘯 𝘵𝘦𝘴𝘵𝘪 𝘥𝘪 𝘦𝘤𝘰𝘵𝘦𝘰𝘭𝘰𝘨𝘪𝘢 𝘧𝘦𝘮𝘮𝘪𝘯𝘪𝘴𝘵𝘢\n“In un’epoca di guerre\, crisi climatica e disuguaglianze\, il fuoco si manifesta ovunque: nelle bombe che devastano le città\, negli incendi che divorano le foreste\, nella rabbia che infiamma le piazze. Ma esiste un altro fuoco\, più antico e segreto\, che scalda senza bruciare\, illumina senza accecare e fonde il bene per renderlo accessibile a chiunque.”\nLe Autrici ci guidano in un viaggio poetico e politico alla scoperta delle “lingue di fuoco”: quelle parole capaci di riparare il mondo spezzato\, di accendere speranza nei crateri della storia\, di tenere vive le scintille di giustizia anche nelle notti più buie.
URL:https://bookstore.gabriellieditori.it/event/presentazione-del-libro-lingue-di-fuoco/
CATEGORIES:Presentazione Libro
ATTACH;FMTTYPE=image/jpeg:https://bookstore.gabriellieditori.it/wp-content/uploads/Lingue-di-Fuoco-flyer-Zoom.jpg
END:VEVENT
END:VCALENDAR