BEGIN:VCALENDAR
VERSION:2.0
PRODID:-//Bookstore Gabrielli Editori - ECPv6.15.20//NONSGML v1.0//EN
CALSCALE:GREGORIAN
METHOD:PUBLISH
X-WR-CALNAME:Bookstore Gabrielli Editori
X-ORIGINAL-URL:https://bookstore.gabriellieditori.it
X-WR-CALDESC:Eventi per Bookstore Gabrielli Editori
REFRESH-INTERVAL;VALUE=DURATION:PT1H
X-Robots-Tag:noindex
X-PUBLISHED-TTL:PT1H
BEGIN:VTIMEZONE
TZID:Europe/Paris
BEGIN:DAYLIGHT
TZOFFSETFROM:+0100
TZOFFSETTO:+0200
TZNAME:CEST
DTSTART:20250330T010000
END:DAYLIGHT
BEGIN:STANDARD
TZOFFSETFROM:+0200
TZOFFSETTO:+0100
TZNAME:CET
DTSTART:20251026T010000
END:STANDARD
BEGIN:DAYLIGHT
TZOFFSETFROM:+0100
TZOFFSETTO:+0200
TZNAME:CEST
DTSTART:20260329T010000
END:DAYLIGHT
BEGIN:STANDARD
TZOFFSETFROM:+0200
TZOFFSETTO:+0100
TZNAME:CET
DTSTART:20261025T010000
END:STANDARD
BEGIN:DAYLIGHT
TZOFFSETFROM:+0100
TZOFFSETTO:+0200
TZNAME:CEST
DTSTART:20270328T010000
END:DAYLIGHT
BEGIN:STANDARD
TZOFFSETFROM:+0200
TZOFFSETTO:+0100
TZNAME:CET
DTSTART:20271031T010000
END:STANDARD
END:VTIMEZONE
BEGIN:VEVENT
DTSTART;TZID=Europe/Paris:20260129T203000
DTEND;TZID=Europe/Paris:20260129T223000
DTSTAMP:20260421T021612
CREATED:20260119T155705Z
LAST-MODIFIED:20260119T155705Z
UID:10166-1769718600-1769725800@bookstore.gabriellieditori.it
SUMMARY:Presentazione di "Il sovversivo di Nazareth" con Gilberto Squizzato a Bergamo
DESCRIPTION:Libreria San Paolo\, in collaborazione con la Parrocchia di Colognola invita a partecipare all’incontro con l’Autore \nGILBERTO SQUIZZATO \nper la presentazione del suo ultimo libro \nIL SOVVERSIVO DI NAZARETH\nLa conversione dell’operaio che non voleva essere il Messia\nGabrielli editori \nGIOVEDI’ 29 GENNAIO ORE 20.30\nChiesa di San Sisto – Colognola al Piano (Bergamo) \nconduce l’Incontro PAOLO VAVASSORI \nPromotori: Libreria San Paolo di Bergamo – Comunità cristiana di Colognola – Fiera dei Librai di Bergamo \nGesù venne al mondo per mettere in scena un copione deciso dall’altro dei cieli o il figlio di Maria costruì faticosamente la propria identità umana?\nE come giunse progressivamente a comprendere che era arrivato per lui il momento di quella che possiamo definire una “conversione” non solo religiosa?
URL:https://bookstore.gabriellieditori.it/event/presentazione-di-il-sovversivo-di-nazareth-con-gilberto-squizzato-a-bergamo/
LOCATION:Chiesa di San Sisto\, Via San Sisto\, 2\, Bergamo\, 24126\, Italy
CATEGORIES:Presentazione Libro
END:VEVENT
BEGIN:VEVENT
DTSTART;TZID=Europe/Paris:20260316T200000
DTEND;TZID=Europe/Paris:20260316T213000
DTSTAMP:20260421T021612
CREATED:20260126T101629Z
LAST-MODIFIED:20260216T093406Z
UID:10193-1773691200-1773696600@bookstore.gabriellieditori.it
SUMMARY:Scuola popolare di filosofia e teologia Ipazia di Alessandria
DESCRIPTION:Scuola popolare di filosofia e teologia\n“DIDASKALÉION IPAZIA DI ALESSANDRIA”\nProgetto ideato e diretto da Selene Zorzi in collaborazione con Gabrielli editori  \nInizio Scuola: lunedì 16 marzo – Presentazione della Scuola: lunedì 9 marzo ore 20.00 – Sede della Scuola: Gabrielli editori via Cengia 67\, 37029 S. Pietro In Cariano (VR) tel. 045 7725543 \nUno spazio di incontro\, riflessione e dialogo aperto a tutti\, credenti e non\, per interrogare insieme le grandi domande tra filosofia e teologia. Ispirata all’antico Didaskaléion di Alessandria e dedicata alla figura di Ipazia\, la scuola propone moduli tematici seminariali che uniscono lezione\, confronto e pratiche partecipative. Un percorso condiviso per cercare senso\, valore e nuove piste di pensiero per l’oggi\, nel segno della libertà intellettuale e dell’amore per la sapienza. Maggiori informazioni QUI.  \nPresentazione degli obiettivi e delle metodologie della Scuola (con anticipazione dei prossimi temi) e del 1° modulo: lunedì 9 marzo 2026 ore 20.00 presso la sede dei Gabrielli editori \n1° modulo del corso\, dal titolo “TEO-LOGIA: Dire Dio: di Dio/Dea\, DXo\, degli déi”\, quattro incontri nelle date di lunedì 16 marzo\, lunedì 30 marzo\, martedì 14 aprile e lunedì 27 aprile 2026\, dalle ore 20.00 alle 21.30\, presso la sede dei Gabrielli editori\, in Via Cengia 67\, 37029 San Pietro in Cariano (Verona).\nIl costo è di € 60\,00 per l’intero modulo. \nIl PAGAMENTO può essere fatto tramite: Carta del Docente (previa richiesta a info@gabriellieditori.it) – bonifico bancario (IBAN: IT96A0831559810000000068799 intestato a Il Segno dei Gabrielli editori); – Carta di credito (con PAY PAL); – pagamento diretto presso gli organizzatori. Scadenza pagamento: lunedì 9 marzo 2026. \n\n\n  \n\n\n\n\n	\n		Modulo di iscrizione\n		\n		Compila i dati per inviare la richiesta di iscrizione al 1° modulo.\n		 \n	\n\n \n	\n		\nNome partecipante\n\n\n		 \n		\nCognome partecipante\n\n\n		 \n		\nIndirizzo\n\n\n		 \n		\nCittà\n\n\n		 \n		\nCAP\n\n\n		 \n		\nTelefono / Cellulare\n\n\n		 \n		\nEmail\n\n\n		 \n		\nCodice Fiscale (partecipante)\n\n\n		 \n	\n\n \n	\n		\n			Intestazione fattura opzionale\n			 \n		\n		\nCompila solo se la fattura deve essere intestata a un soggetto diverso dal partecipante.\nSe lasci vuoto\, useremo i dati del partecipante.\n		 \n		\n			\nRagione sociale / Nominativo\n\n\n			 \n			\nIndirizzo fatturazione\n\n\n			 \n			\nCittà fatturazione\n\n\n			 \n			\nCAP fatturazione\n\n\n			 \n			\nP. IVA\n\n\n			 \n			\nCodice Fiscale (intestatario)\n\n\n			 \n		\n	\n\n \n	\n		\n			Evento\n			 \n		\n		\n			\n				TEO-LOGIA: Dire Dio: di Dio/Dea\, DXo\, degli déi\n				 \n			\n			\n				Date: lun 16 marzo • lun 30 marzo • mar 14 aprile • lun 27 aprile 2026\nOrario: 20.00 – 21.30\nLuogo: Gabrielli editori\, Via Cengia 67\, 37029 San Pietro in Cariano (VR)\nQuota modulo: € 60\,00\n				 \n			\n			\nInviando questo modulo richiedi l’iscrizione al 1° modulo della Scuola popolare di filosofia e teologia\nDidaskaléion “Ipazia di Alessandria”.\n			 \n			\nPagamento: online tramite “PAY PAL” oppure invio copia del pagamento entro lunedì 9 marzo 2026\na info@gabriellieditori.it (bonifico IBAN: IT96A0831559810000000068799\,\nintestato a Il Segno dei Gabrielli editori).\n			 \n		\n	\n	\n		Ai sensi dell’art. 13 del Regolamento UE 2016/679 autorizzo IL SEGNO DEI GABRIELLI EDITORI snc al trattamento dei miei dati personali per gli adempimenti necessari alla mia iscrizione al modulo della Scuola popolare di filosofia e teologia e per l’invio di materiale informativo relativo a iniziative di formazione e/o pubblicizzazione della Casa editrice stessa.\nPrivacy Policy.\n		 \n	\n	\n		\n		 \n	\nΔ
URL:https://bookstore.gabriellieditori.it/event/scuola-popolare-filosofia-teologia-ipazia/
LOCATION:Gabrielli editori\, VIA CENGIA\, 67\,\, San Pietro in Cariano\, 37029\, Italy
CATEGORIES:Corsi
ATTACH;FMTTYPE=image/png:https://bookstore.gabriellieditori.it/wp-content/uploads/Scuola-Ipazia-evento.png
END:VEVENT
END:VCALENDAR